BEGIN:VCALENDAR
VERSION:2.0
PRODID:-//Muppies - ECPv6.15.20//NONSGML v1.0//EN
CALSCALE:GREGORIAN
METHOD:PUBLISH
X-ORIGINAL-URL:https://www.muppies.org
X-WR-CALDESC:Events for Muppies
REFRESH-INTERVAL;VALUE=DURATION:PT1H
X-Robots-Tag:noindex
X-PUBLISHED-TTL:PT1H
BEGIN:VTIMEZONE
TZID:UTC
BEGIN:STANDARD
TZOFFSETFROM:+0000
TZOFFSETTO:+0000
TZNAME:UTC
DTSTART:20230101T000000
END:STANDARD
END:VTIMEZONE
BEGIN:VEVENT
DTSTART;TZID=UTC:20240711T180000
DTEND;TZID=UTC:20240711T180000
DTSTAMP:20260421T225624
CREATED:20240625T211623Z
LAST-MODIFIED:20240625T212305Z
UID:15209-1720720800-1720720800@www.muppies.org
SUMMARY:Muppies Seattle: Intern Networking Event
DESCRIPTION:Fill out my LGL Form!
URL:https://www.muppies.org/e/seattle-intern-networking/
CATEGORIES:show
END:VEVENT
END:VCALENDAR