BEGIN:VCALENDAR
VERSION:2.0
PRODID:-//Muppies - ECPv6.15.20//NONSGML v1.0//EN
CALSCALE:GREGORIAN
METHOD:PUBLISH
X-WR-CALNAME:Muppies
X-ORIGINAL-URL:https://www.muppies.org
X-WR-CALDESC:Events for Muppies
REFRESH-INTERVAL;VALUE=DURATION:PT1H
X-Robots-Tag:noindex
X-PUBLISHED-TTL:PT1H
BEGIN:VTIMEZONE
TZID:America/New_York
BEGIN:DAYLIGHT
TZOFFSETFROM:-0500
TZOFFSETTO:-0400
TZNAME:EDT
DTSTART:20240310T070000
END:DAYLIGHT
BEGIN:STANDARD
TZOFFSETFROM:-0400
TZOFFSETTO:-0500
TZNAME:EST
DTSTART:20241103T060000
END:STANDARD
BEGIN:DAYLIGHT
TZOFFSETFROM:-0500
TZOFFSETTO:-0400
TZNAME:EDT
DTSTART:20250309T070000
END:DAYLIGHT
BEGIN:STANDARD
TZOFFSETFROM:-0400
TZOFFSETTO:-0500
TZNAME:EST
DTSTART:20251102T060000
END:STANDARD
BEGIN:DAYLIGHT
TZOFFSETFROM:-0500
TZOFFSETTO:-0400
TZNAME:EDT
DTSTART:20260308T070000
END:DAYLIGHT
BEGIN:STANDARD
TZOFFSETFROM:-0400
TZOFFSETTO:-0500
TZNAME:EST
DTSTART:20261101T060000
END:STANDARD
END:VTIMEZONE
BEGIN:VTIMEZONE
TZID:America/Chicago
BEGIN:DAYLIGHT
TZOFFSETFROM:-0600
TZOFFSETTO:-0500
TZNAME:CDT
DTSTART:20240310T080000
END:DAYLIGHT
BEGIN:STANDARD
TZOFFSETFROM:-0500
TZOFFSETTO:-0600
TZNAME:CST
DTSTART:20241103T070000
END:STANDARD
BEGIN:DAYLIGHT
TZOFFSETFROM:-0600
TZOFFSETTO:-0500
TZNAME:CDT
DTSTART:20250309T080000
END:DAYLIGHT
BEGIN:STANDARD
TZOFFSETFROM:-0500
TZOFFSETTO:-0600
TZNAME:CST
DTSTART:20251102T070000
END:STANDARD
BEGIN:DAYLIGHT
TZOFFSETFROM:-0600
TZOFFSETTO:-0500
TZNAME:CDT
DTSTART:20260308T080000
END:DAYLIGHT
BEGIN:STANDARD
TZOFFSETFROM:-0500
TZOFFSETTO:-0600
TZNAME:CST
DTSTART:20261101T070000
END:STANDARD
END:VTIMEZONE
BEGIN:VTIMEZONE
TZID:UTC
BEGIN:STANDARD
TZOFFSETFROM:+0000
TZOFFSETTO:+0000
TZNAME:UTC
DTSTART:20240101T000000
END:STANDARD
END:VTIMEZONE
BEGIN:VEVENT
DTSTART;TZID=America/New_York:20250306T180000
DTEND;TZID=America/New_York:20250306T180000
DTSTAMP:20260421T105217
CREATED:20250122T163112Z
LAST-MODIFIED:20250122T163530Z
UID:15741-1741284000-1741284000@www.muppies.org
SUMMARY:Muppies Atlanta: Annual Iftar 2025
DESCRIPTION:Fill out my LGL Form!
URL:https://www.muppies.org/e/atlanta-iftar-2025/
CATEGORIES:show
END:VEVENT
BEGIN:VEVENT
DTSTART;TZID=America/Chicago:20250313T180000
DTEND;TZID=America/Chicago:20250313T180000
DTSTAMP:20260421T105217
CREATED:20250213T180701Z
LAST-MODIFIED:20250213T195305Z
UID:15760-1741888800-1741888800@www.muppies.org
SUMMARY:Muppies Houston Annual Iftar 2025
DESCRIPTION:Fill out my LGL Form!
URL:https://www.muppies.org/e/hou-iftar/
CATEGORIES:show
END:VEVENT
BEGIN:VEVENT
DTSTART;TZID=America/New_York:20250313T190000
DTEND;TZID=America/New_York:20250313T190000
DTSTAMP:20260421T105217
CREATED:20250219T194452Z
LAST-MODIFIED:20250219T203308Z
UID:15765-1741892400-1741892400@www.muppies.org
SUMMARY:Muppies DC: Annual Iftar 2025
DESCRIPTION:Fill out my LGL Form!
URL:https://www.muppies.org/e/dc-iftar-25/
CATEGORIES:show
END:VEVENT
BEGIN:VEVENT
DTSTART;TZID=America/New_York:20250315T173000
DTEND;TZID=America/New_York:20250315T173000
DTSTAMP:20260421T105217
CREATED:20250130T192437Z
LAST-MODIFIED:20250130T192537Z
UID:15749-1742059800-1742059800@www.muppies.org
SUMMARY:Muppies NY Annual Iftar 2025
DESCRIPTION:Fill out my LGL Form!
URL:https://www.muppies.org/e/ny-iftar-2025/
CATEGORIES:show
END:VEVENT
BEGIN:VEVENT
DTSTART;TZID=UTC:20250316T181500
DTEND;TZID=UTC:20250316T181500
DTSTAMP:20260421T105217
CREATED:20250313T041843Z
LAST-MODIFIED:20250313T042402Z
UID:15786-1742148900-1742148900@www.muppies.org
SUMMARY:Muppies Chicago Iftar 2025
DESCRIPTION:Fill out my LGL Form!
URL:https://www.muppies.org/e/chicago-iftar-2025/
CATEGORIES:show
END:VEVENT
BEGIN:VEVENT
DTSTART;TZID=UTC:20250316T181500
DTEND;TZID=UTC:20250316T181500
DTSTAMP:20260421T105217
CREATED:20250314T043359Z
LAST-MODIFIED:20250314T043629Z
UID:15794-1742148900-1742148900@www.muppies.org
SUMMARY:Muppies Chi Iftar 2025
DESCRIPTION:Fill out my LGL Form!
URL:https://www.muppies.org/e/chi-iftar-2025/
CATEGORIES:show
END:VEVENT
BEGIN:VEVENT
DTSTART;TZID=America/New_York:20250317T190000
DTEND;TZID=America/New_York:20250317T190000
DTSTAMP:20260421T105217
CREATED:20250302T120907Z
LAST-MODIFIED:20250302T121733Z
UID:15777-1742238000-1742238000@www.muppies.org
SUMMARY:Muppies Toronto Iftar 2025
DESCRIPTION:Fill out my LGL Form!
URL:https://www.muppies.org/e/toronto-iftar-2025/
CATEGORIES:show
END:VEVENT
END:VCALENDAR