BEGIN:VCALENDAR
VERSION:2.0
PRODID:-//Muppies - ECPv6.15.20//NONSGML v1.0//EN
CALSCALE:GREGORIAN
METHOD:PUBLISH
X-ORIGINAL-URL:https://www.muppies.org
X-WR-CALDESC:Events for Muppies
REFRESH-INTERVAL;VALUE=DURATION:PT1H
X-Robots-Tag:noindex
X-PUBLISHED-TTL:PT1H
BEGIN:VTIMEZONE
TZID:UTC
BEGIN:STANDARD
TZOFFSETFROM:+0000
TZOFFSETTO:+0000
TZNAME:UTC
DTSTART:20230101T000000
END:STANDARD
END:VTIMEZONE
BEGIN:VEVENT
DTSTART;TZID=UTC:20240110T080000
DTEND;TZID=UTC:20240110T170000
DTSTAMP:20260424T104531
CREATED:20240116T120953Z
LAST-MODIFIED:20240130T220101Z
UID:14860-1704873600-1704906000@www.muppies.org
SUMMARY:Muppies NYC End of Year Lunch
DESCRIPTION:Fill out my LGL Form!
URL:https://www.muppies.org/e/muppies-nyc-end-of-year-lunch/
CATEGORIES:show
END:VEVENT
BEGIN:VEVENT
DTSTART;VALUE=DATE:20240127
DTEND;VALUE=DATE:20240128
DTSTAMP:20260424T104531
CREATED:20240116T120559Z
LAST-MODIFIED:20240130T220044Z
UID:14855-1706313600-1706399999@www.muppies.org
SUMMARY:Muppies DC: Ski Trip Waiver
DESCRIPTION:Fill out my LGL Form!
URL:https://www.muppies.org/e/muppies-dc-ski-trip-waiver/
LOCATION:Liberty Mountain Resort 78 Country Club Trail\, Fairfield PA\, 17320\, Liberty Mountain Resort 78 Country Club Trail\, Fairfield PA\, 17320\, United States
CATEGORIES:show
END:VEVENT
BEGIN:VEVENT
DTSTART;TZID=UTC:20240127T080000
DTEND;TZID=UTC:20240127T180000
DTSTAMP:20260424T104531
CREATED:20240116T120815Z
LAST-MODIFIED:20240130T220024Z
UID:14858-1706342400-1706378400@www.muppies.org
SUMMARY:Muppies DC Ski Event
DESCRIPTION:Fill out my LGL Form!
URL:https://www.muppies.org/e/muppies-dc-ski-event/
LOCATION:Liberty Mountain Resort 78 Country Club Trail\, Fairfield PA\, 17320\, Liberty Mountain Resort 78 Country Club Trail\, Fairfield PA\, 17320\, United States
CATEGORIES:show
END:VEVENT
END:VCALENDAR